BEGIN:VCALENDAR
VERSION:2.0
PRODID:-//TESOL Greece - ECPv5.9.0//NONSGML v1.0//EN
CALSCALE:GREGORIAN
METHOD:PUBLISH
X-WR-CALNAME:TESOL Greece
X-ORIGINAL-URL:https://tesolgreece.org
X-WR-CALDESC:Events for TESOL Greece
BEGIN:VTIMEZONE
TZID:Europe/Athens
BEGIN:DAYLIGHT
TZOFFSETFROM:+0200
TZOFFSETTO:+0300
TZNAME:EEST
DTSTART:20210328T010000
END:DAYLIGHT
BEGIN:STANDARD
TZOFFSETFROM:+0300
TZOFFSETTO:+0200
TZNAME:EET
DTSTART:20211031T010000
END:STANDARD
END:VTIMEZONE
BEGIN:VEVENT
DTSTART;TZID=Europe/Athens:20211128T110000
DTEND;TZID=Europe/Athens:20211128T110000
DTSTAMP:20260425T003715
CREATED:20210612T143652Z
LAST-MODIFIED:20211124T100457Z
UID:6369-1638097200-1638097200@tesolgreece.org
SUMMARY:TESOL Greece_Christmas Event "T-'ELF' Teachers Bearing Gifts"
DESCRIPTION:Plenary Presentation		\n				\n				\n						\n							\n					\n			\n							\n						\n				\n								\n																										\n						\n				\n				\n				\n								\n										\n						\n				\n						\n					\n		\n				\n			\n							\n						\n				\n			Roussetia Nikoliadou		\n				\n				\n				\n								\n					“Holiday Crafts for Younger and Older Learners.” 					\n						\n				\n				\n				\n								\n					Roussetia will share with us a treasure trove of seasonal crafts and activities to promote active learning and nurture creativity. Whether your learners are young or “always” young\, you’ll find ideas to use in your own classroom to lift Christmas spirits and build English skills. Wear your Christmas hat\, your best smile\, bring a cup of something hot and let’s have fun! 					\n						\n				\n						\n					\n		\n								\n					\n		\n				\n				\n					\n			\n		\n				\n				\n						\n					\n		\n								\n					\n		\n				\n						\n							\n					\n			\n							\n						\n				\n					\n			\n						\n						Click here to access the Event (Member login required)\n		\n					\n		\n				\n				\n						\n					\n		\n								\n					\n		\n				\n						\n							\n					\n			\n							\n						\n				\n			\n\n\n\n\n\n\n\n\n\n"T-\n'ELF' Teachers Bearing Gifts"		\n				\n						\n					\n		\n				\n			\n							\n						\n				\n								\n																										\n						\n				\n						\n					\n		\n								\n					\n		\n				\n						\n							\n					\n			\n							\n						\n				\n			Event Programme		\n				\n				\n				\n					\n			\n		\n				\n				\n				\n				\n					\n				\n				\n						\n					\n		\n								\n					\n		\n				\n						\n							\n					\n			\n							\n						\n				\n			MEMBER REGISTRATION		\n				\n						\n					\n		\n								\n					\n		\n				\n						\n							\n					\n			\n							\n						\n				\n								\n					In the past\, we all used to renew our membership during the in-person registration at our the events. This year\, due to the pandemic\, registration takes place online. Due to our registration system\, we all need to renew our membership the latest by November 23rd 2021\, so we can be registered and access and attend the event. You can renew your membership by clicking on the link below. 					\n						\n				\n				\n				\n					\n			\n						\n						Register - Renew your Membership
URL:https://tesolgreece.org/event/tesol-greece_christmas-event-t-elf-teachers-bearing-gifts/
LOCATION:TESOL Greece\, Greece
ATTACH;FMTTYPE=image/png:https://tesolgreece.org/wp-content/uploads/2021/09/Christmas-Event-Poster.png
ORGANIZER;CN="TESOL%20Greece":MAILTO:info@tesolgreece.org
END:VEVENT
END:VCALENDAR