BEGIN:VCALENDAR
VERSION:2.0
PRODID:-//TESOL Greece - ECPv5.9.0//NONSGML v1.0//EN
CALSCALE:GREGORIAN
METHOD:PUBLISH
X-WR-CALNAME:TESOL Greece
X-ORIGINAL-URL:https://tesolgreece.org
X-WR-CALDESC:Events for TESOL Greece
BEGIN:VTIMEZONE
TZID:Europe/Athens
BEGIN:DAYLIGHT
TZOFFSETFROM:+0200
TZOFFSETTO:+0300
TZNAME:EEST
DTSTART:20260329T010000
END:DAYLIGHT
BEGIN:STANDARD
TZOFFSETFROM:+0300
TZOFFSETTO:+0200
TZNAME:EET
DTSTART:20261025T010000
END:STANDARD
END:VTIMEZONE
BEGIN:VEVENT
DTSTART;VALUE=DATE:20260619
DTEND;VALUE=DATE:20260622
DTSTAMP:20260424T191614
CREATED:20260422T061055Z
LAST-MODIFIED:20260423T155814Z
UID:16139-1781827200-1782086399@tesolgreece.org
SUMMARY:TESOL Greece Summer Event '26
DESCRIPTION:TESOL Greece Summer Event 2026		\n				\n				\n				\n			Join us at the TESOL Greece Summer Event in Kalamata\,  19th-21st June 2026! \n "Recharged Teachers\, \nInclusion in Bloom"		\n				\n						\n					\n		\n								\n					\n		\n				\n						\n							\n					\n			\n							\n						\n				\n			Workshop Presenter		\n				\n				\n				\n					\n			\n		\n				\n				\n						\n					\n		\n								\n					\n		\n				\n						\n							\n					\n			\n							\n						\n						\n							\n					\n			\n							\n						\n				\n			Constantina Constantopoulou		\n				\n				\n				\n								\n										\n						\n				\n				\n				\n								\n																										\n						\n				\n				\n				\n								\n					Constantina Constantopoulou is an ELT professional with experience across educational levels and contexts. For over a decade\, she has been working in teacher education and professional development with national and internation organisations. She holds a BA\, a MEd\, and an MSc.\, and her articles have been featured in ELT/TESOL publications. 					\n						\n				\n						\n					\n		\n				\n			\n							\n						\n				\n								\n					“The Inclusive Garden: Seeds and Soil” 					\n						\n				\n				\n				\n					\n			\n		\n				\n				\n				\n				\n								\n					Workshop Summary Inclusion isn’t a checklist – it’s a living environment we tend together. This interactive session uses the garden as a frame for honest conversations about learner diversity\, classroom conditions\, and the educators who make growth possible. Because seeds matter. But so does the soil. And you can’t have a healthy garden if the gardener is depleted. 					\n						\n				\n						\n					\n		\n								\n					\n		\n						\n					\n		\n								\n					\n		\n				\n						\n							\n					\n			\n							\n						\n				\n			Venue: Ostria Hotel\, Kalamata		\n				\n				\n				\n					\n			\n		\n				\n				\n				\n				\n								\n										\n						\n				\n						\n					\n		\n								\n					\n		\n				\n						\n							\n					\n			\n							\n						\n				\n			The TESOL Greece travel package includes:		\n				\n						\n					\n		\n								\n					\n		\n				\n						\n							\n					\n			\n							\n						\n				\n								\n					 v Accommodation: Price per person: 180€ (shared three beds room) Price per person: 200€ (shared double room) Price per person: 260€ (single room) v Two nights (19th & 20th) v Coach from Athens to Kalamata & from Kalamata to Athens v Breakfast v Coach bus from-to Kalamata v Coach bus tours in Kalamata v Workshop (only for current TG members) 					\n						\n				\n						\n					\n		\n								\n					\n		\n				\n						\n							\n					\n			\n							\n						\n				\n					\n			\n						\n						Click here to register\n		\n					\n		\n				\n				\n						\n					\n		\n								\n					\n		\n				\n						\n							\n					\n			\n							\n						\n				\n								\n					Registration Deadline: 6th May 2026
URL:https://tesolgreece.org/event/tesol-greece-summer-event-26/
LOCATION:Ostria Hotel\, Kalamata\, Kalamata\, Greece
END:VEVENT
END:VCALENDAR