BEGIN:VCALENDAR
VERSION:2.0
PRODID:-//TESOL Greece - ECPv5.9.0//NONSGML v1.0//EN
CALSCALE:GREGORIAN
METHOD:PUBLISH
X-WR-CALNAME:TESOL Greece
X-ORIGINAL-URL:https://tesolgreece.org
X-WR-CALDESC:Events for TESOL Greece
BEGIN:VTIMEZONE
TZID:Europe/Athens
BEGIN:DAYLIGHT
TZOFFSETFROM:+0200
TZOFFSETTO:+0300
TZNAME:EEST
DTSTART:20200329T010000
END:DAYLIGHT
BEGIN:STANDARD
TZOFFSETFROM:+0300
TZOFFSETTO:+0200
TZNAME:EET
DTSTART:20201025T010000
END:STANDARD
END:VTIMEZONE
BEGIN:VEVENT
DTSTART;TZID=Europe/Athens:20201101T100000
DTEND;TZID=Europe/Athens:20201101T140000
DTSTAMP:20260425T025833
CREATED:20200806T095117Z
LAST-MODIFIED:20201029T090206Z
UID:3913-1604224800-1604239200@tesolgreece.org
SUMMARY:TESOL Greece - ETAL Symposium 'Making Connections'
DESCRIPTION:TESOL Greece - ETAL Symposium 		\n				\n				\n				\n					\n			\n		\n				\n				\n						\n					\n		\n								\n					\n		\n				\n						\n							\n					\n			\n							\n						\n				\n			Making Connections		\n				\n				\n				\n					\n			\n		\n				\n				\n				\n				\n			An Online Event		\n				\n				\n				\n					\n			\n		\n				\n				\n						\n					\n		\n								\n					\n		\n				\n						\n							\n					\n			\n							\n						\n				\n			November 1st\, 2020 		\n				\n				\n				\n					\n			\n		\n				\n				\n				\n				\n					\n			\n						\n						click here to access the presentations\n		\n					\n		\n				\n				\n				\n				\n					\n			\n		\n				\n				\n						\n					\n		\n								\n					\n		\n				\n						\n							\n					\n			\n							\n						\n				\n			Our Thanks to our Sponsors		\n				\n						\n					\n		\n								\n					\n		\n				\n						\n							\n					\n			\n							\n						\n						\n							\n					\n			\n							\n						\n				\n								\n													\n															\n														\n						\n				\n						\n					\n		\n				\n			\n							\n						\n				\n								\n													\n															\n														\n						\n				\n						\n					\n		\n								\n					\n		\n						\n					\n		\n								\n					\n		\n				\n						\n							\n					\n			\n							\n						\n				\n					\n			\n		\n				\n				\n				\n				\n			Who is ETAL?		\n				\n						\n					\n		\n								\n					\n		\n				\n						\n							\n					\n			\n							\n						\n				\n					\n					\n				\n				\n						\n					\n		\n								\n					\n		\n				\n						\n							\n					\n			\n							\n						\n				\n					\n			\n		\n				\n				\n				\n				\n			Important Note to All TESOL Greece Members\n		\n				\n				\n				\n								\n					To Access the Webinars: Please make sure you have downloaded and installed Zoom\, available here: https://www.zoom.us To go to the event page with the zoom links click on the button below (login required) 					\n						\n				\n				\n				\n					\n			\n						\n						click here to access the presentations\n		\n					\n		\n				\n				\n						\n					\n		\n								\n					\n		\n				\n						\n							\n					\n			\n							\n						\n				\n					\n			\n		\n				\n				\n				\n				\n			Downloadable Event Programme		\n				\n				\n				\n					\n				\n				\n				\n				\n					\n			\n		\n				\n				\n				\n				\n			Plenary Speakers		\n				\n						\n					\n		\n								\n					\n		\n				\n						\n							\n					\n			\n							\n						\n						\n							\n					\n			\n							\n						\n				\n								\n																										\n						\n				\n				\n				\n								\n					Specializing in EFL Testing & Assessment Jenny Liontou is Assistant Professor of Applied Linguistics in the Department of Language and Linguistics\, Faculty of English Language & Literature\, National & Kapodistrian University of Athens. Her current research interests include theoretical and practical issues of testing and assessing foreign language competence\, computational linguistics and classroom-based assessment. 					\n						\n				\n						\n					\n		\n				\n			\n							\n						\n				\n			10:00 - 11:15		\n				\n				\n				\n			Jenny Liontou		\n				\n				\n				\n								\n					Online Teaching & Testing Resources for EFL Teachers: The WayForward… 					\n						\n				\n				\n				\n					\n			\n		\n				\n				\n				\n				\n								\n					The aim of this presentation is to provide basic information on available online instruments while reflecting on their use for EFL teaching and assessment purposes. To this end\, a variety of online resources that can be used to create a more dynamic learning environment and increase EFL learners’ engagement and motivation will be demonstrated\, while issues concerning assessment feedback and practical affordances provided by open online technologies will also be discussed. 					\n						\n				\n						\n					\n		\n								\n					\n		\n				\n				\n					\n			\n		\n				\n				\n				\n						\n							\n					\n			\n							\n						\n				\n			11:30 - 12:30		\n				\n				\n				\n			Georgios Chatzis		\n				\n				\n				\n								\n					The Coronaloveletters. Drafting Online Practice Tests with a Creative Twist. 					\n						\n				\n				\n				\n								\n					This workshop will give hands on examples on how to draft online practice tests using google forms which also can save teachers a lot of time on marking. It will also give examples of addons that can be used with the tests that can promote creativity and boost student participation. Attendee participation required. Please take a few minutes to fill in this form with examples of tests and activities\, before George’s presentation. https://forms.gle/WFx2b1HdpvxPTBWp9 					\n						\n				\n						\n					\n		\n				\n			\n							\n						\n				\n								\n																										\n						\n				\n				\n				\n								\n					Georgios Chatzis\, Karayanni – Chatzi Schools of English\, Corinth. RSA dip\, DTEFL\, MA ELT University of Essex. Past TESOL Greece Chair. 					\n						\n				\n						\n					\n		\n								\n					\n		\n				\n				\n					\n			\n		\n				\n				\n				\n						\n							\n					\n			\n							\n						\n				\n								\n																										\n						\n				\n				\n				\n								\n					Theodora Bogiou (MA in TESOL)\, is an English language teacher\, owner and director of studies at Bogiou FL School and an Academic Manager at British Study Centers Juniors. She was awarded the Gold Award in Innovation in Teaching in Education Leaders Awards 2020. 					\n						\n				\n						\n					\n		\n				\n			\n							\n						\n				\n			12:45 - 13:45		\n				\n				\n				\n			Theodora Bogiou		\n				\n				\n				\n								\n					Listen and You Will Be Heard 					\n						\n				\n				\n				\n					\n			\n		\n				\n				\n				\n				\n								\n					Teaching is a listening profession and listening is a virtue. But is this virtue an inherent gift or is it a skill that can be honed? How can active listening inspire your students to have a fulfilling learning experience and how can sharing their own story give room for creativity?  
URL:https://tesolgreece.org/event/making-connections/
LOCATION:Municipal Art Gallery of Larissa G.I. Katsigras Museum\, Geor. Papandreou 2\, Larisa 413 34\, Larissa\, 413 34\, Greece
ATTACH;FMTTYPE=image/jpeg:https://tesolgreece.org/wp-content/uploads/2020/10/TG-ETAL-Symposium-Website.jpg
ORGANIZER;CN="TESOL%20Greece":MAILTO:info@tesolgreece.org
END:VEVENT
END:VCALENDAR