BEGIN:VCALENDAR
VERSION:2.0
PRODID:-//TESOL Greece - ECPv5.9.0//NONSGML v1.0//EN
CALSCALE:GREGORIAN
METHOD:PUBLISH
X-WR-CALNAME:TESOL Greece
X-ORIGINAL-URL:https://tesolgreece.org
X-WR-CALDESC:Events for TESOL Greece
BEGIN:VTIMEZONE
TZID:Europe/Athens
BEGIN:DAYLIGHT
TZOFFSETFROM:+0200
TZOFFSETTO:+0300
TZNAME:EEST
DTSTART:20250330T010000
END:DAYLIGHT
BEGIN:STANDARD
TZOFFSETFROM:+0300
TZOFFSETTO:+0200
TZNAME:EET
DTSTART:20251026T010000
END:STANDARD
END:VTIMEZONE
BEGIN:VEVENT
DTSTART;TZID=Europe/Athens:20250209T090000
DTEND;TZID=Europe/Athens:20250209T170000
DTSTAMP:20260424T162158
CREATED:20250106T210356Z
LAST-MODIFIED:20250208T142609Z
UID:14381-1739091600-1739120400@tesolgreece.org
SUMMARY:23rd Annual TESOL Greece-Athens College Event
DESCRIPTION:23rd Annual TESOL Greece – Athens College Event		\n				\n						\n					\n		\n								\n					\n		\n				\n						\n							\n					\n			\n							\n						\n				\n								\n																										\n						\n				\n						\n					\n		\n				\n			\n							\n						\n				\n								\n																										\n						\n				\n						\n					\n		\n								\n					\n		\n				\n						\n							\n					\n			\n							\n						\n				\n					\n			\n		\n				\n				\n				\n				\n			"Fostering Engagement through Progressive Instructional Strategies"		\n				\n				\n				\n					\n			\n		\n				\n				\n						\n					\n		\n								\n					\n		\n				\n						\n							\n					\n			\n							\n						\n				\n								\n																										\n						\n				\n						\n					\n		\n								\n					\n		\n				\n						\n							\n					\n			\n							\n						\n				\n					\n			\n		\n				\n				\n				\n				\n			Event Sponsor		\n				\n				\n				\n								\n													\n															\n														\n						\n				\n						\n					\n		\n								\n					\n		\n				\n						\n							\n					\n			\n							\n						\n				\n			09:30 - 09:40	Welcome - Opening Remarks		\n				\n						\n					\n		\n								\n					\n		\n				\n						\n							\n					\n			\n							\n						\n				\n					\n			\n		\n				\n				\n						\n					\n		\n								\n					\n		\n				\n						\n							\n					\n			\n							\n						\n				\n			Plenary Speaker: Dr. Evangelia Karagianni		\n				\n						\n					\n		\n								\n					\n		\n				\n						\n							\n					\n			\n							\n						\n						\n							\n					\n			\n							\n						\n				\n								\n									\n																					Dr. Evangelia Karagianni\n										\n								\n						\n				\n						\n					\n		\n				\n			\n							\n						\n				\n								\n										\n						\n				\n				\n				\n								\n					9:40-10:25                                   Athens College Theater 					\n						\n				\n				\n				\n								\n					“Taming Task Overload: Tips for Teachers and Tactics for Learners“ 					\n						\n				\n						\n					\n		\n								\n					\n		\n						\n					\n		\n								\n					\n		\n				\n						\n							\n					\n			\n							\n						\n				\n								\n					Summary: This presentation addresses the growing challenge of task overload for both teachers and learners in today’s educational environment. Educators will gain practical tips for streamlining lesson planning\, prioritizing high-impact activities\, and implementing efficient workflows to reduce stress and enhance student engagement. Learners will benefit from strategies like task chunking\, single-tasking\, and goal-setting to improve focus and manage cognitive load. By balancing productivity with purposeful learning\, this talk aims to empower attendees to transform overwhelm into opportunity\, fostering a classroom environment that supports sustainable\, effective learning. 					\n						\n				\n				\n				\n								\n					Evangelia Karagianni holds a Ph.D. in Teacher Development and an M. Ed. in TEFL. She has taught English in state Primary Schools for more than 25 years and she is currently serving as an ELT Education Advisor in East Attica. She also teaches the module of Educational Technology at the Hellenic Open University Master’s programme. She is an IKY and a Fulbright scholar. 					\n						\n				\n						\n					\n		\n								\n					\n		\n				\n						\n							\n					\n			\n							\n						\n				\n					\n			\n						\n		\n				\n				\n						\n					\n		\n								\n					\n		\n				\n						\n							\n					\n			\n							\n						\n				\n			Speakers		\n				\n						\n					\n		\n								\n					\n		\n				\n						\n							\n					\n			\n							\n						\n						\n							\n					\n			\n							\n						\n				\n			Maria Diavati		\n				\n				\n				\n								\n					10:30-11:00 Athens College Theater 					\n						\n				\n				\n				\n								\n					“Metamorphosis: Evolving CLIL for Metaskill Mastery“ 					\n						\n				\n				\n				\n					\n			\n		\n				\n				\n				\n				\n								\n					Summary: This 40-minute workshop explores how Content and Language Integrated Learning (CLIL) can foster metaskills such as critical thinking\, collaboration\, communication\, and problem-solving. Participants will discover practical examples and strategies for implementing CLIL effectively\, alongside resources like CLIL Portfolios to enhance metaskill development in their curricula for 21st-century learners.  					\n						\n				\n						\n					\n		\n				\n			\n							\n						\n				\n								\n									\n																					Maria Diavati\n										\n								\n						\n				\n				\n				\n								\n					Maria Diavati has a bachelor’s degree in English literature from the National Kapodistrian University of Athens and a Master’s degree in TESOL. She is certified in both Cert-TESOL and DipTESOL and has recently obtained her MBA in Educational Leadership from the University of Cumbria. Maria serves as an author\, material developer\, teacher trainer\, and academic coordinator at two Foreign Language Schools in Athens. Her research primarily centers on CLIL and her findings have been published. 					\n						\n				\n				\n				\n								\n										\n						\n				\n						\n					\n		\n								\n					\n		\n						\n					\n		\n								\n					\n		\n				\n						\n							\n					\n			\n							\n						\n						\n							\n					\n			\n							\n						\n				\n			Mary Efthymiou  Guest Speaker: Elena Marinopoulou		\n				\n				\n				\n								\n					11:00-11:30 Athens College Theater 					\n						\n				\n				\n				\n								\n					“Redefining Progress: The Transformative Power of Going Back to Basics“ 					\n						\n				\n				\n				\n					\n			\n		\n				\n				\n				\n				\n								\n					Summary: In a world where technology challenges traditional learning\, how can we reignite students’ love for reading and critical thinking? This session explores how literature can engage young learners in meaningful ways. Through the lens of a 6th-grade novel study guide\, discover how engaging texts can inspire curiosity and deepen understanding\, proving that progressive education isn’t limited to technology but thrives through creativity and connection. 					\n						\n				\n						\n					\n		\n				\n			\n							\n						\n				\n								\n									\n																					\n										\n								\n						\n				\n				\n				\n								\n					Mary Efthymiou has been an English teacher for the past 28 years\, 19 of which at Athens College. Before that\, she had dipped her toesin different trades\, such as concert\, documentary and TV production\, graphi design\, and the theater. This experience\, along with her background in Media Studies\, have provided her with an array of teaching tools that render her school life quite stimulating\, albeit a tad hectic! 					\n						\n				\n				\n				\n								\n										\n						\n				\n						\n					\n		\n								\n					\n		\n						\n					\n		\n								\n					\n		\n				\n						\n							\n					\n			\n							\n						\n						\n							\n					\n			\n							\n						\n				\n								\n									\n																					Natassa Manitsa\n										\n								\n						\n				\n				\n				\n								\n					Natassa Manitsa (BA\, MSc\, MA\, DipTrans) is an English educator and marketing specialist with expertise in English\, Translation\, School Psychology\, Philosophy & Arts\, and Communication & Marketing. Founder of EduMarketing Agency and co-founder of EdSkills Academy\, she co-authored two educational books\, contributing significantly to academic excellence. 					\n						\n				\n				\n				\n								\n										\n						\n				\n						\n					\n		\n				\n			\n							\n						\n				\n			Natasa Manitsa		\n				\n				\n				\n								\n					11:30-12:00 Athens College Theater 					\n						\n				\n				\n				\n								\n					“Mindset Reset: Reimagining Education & Assessment with Art\, SEL\, and Philosophy“ 					\n						\n				\n				\n				\n					\n			\n		\n				\n				\n				\n				\n								\n					Summary: Based on research conducted for the Hellenic Open University\, this presentation explores how incorporating philosophical methods and a wide range of artistic expressions—from poetry to cinema—alongside Social-Emotional Learning (SEL) can bring transformative changes to education. Through engaging examples\, educators will discover activities that foster creativity\, critical thinking\, and emotional intelligence\, promoting holistic development\, deeper engagement\, and personal growth beyond traditional educational & assessment approaches. 					\n						\n				\n						\n					\n		\n								\n					\n		\n						\n					\n		\n								\n					\n		\n				\n						\n							\n					\n			\n							\n						\n				\n			12:00 - 12:15COFFEE BREAK		\n				\n						\n					\n		\n								\n					\n		\n				\n						\n							\n					\n			\n							\n						\n						\n							\n					\n			\n							\n						\n				\n			Marina Seitanidis		\n				\n				\n				\n								\n					12:15-12:45 Athens College Theater 					\n						\n				\n				\n				\n								\n					“A High School English Teacher’s Guide to Surviving AI“ 					\n						\n				\n				\n				\n					\n			\n		\n				\n				\n				\n				\n								\n					Summary: This presentation will discuss the challenges involved in teaching the responsible use of AI to high school students. Is AI used in schools around the world currently? What do educators know aboutAI? What questions do students have? What are the benefits and limitations of AI? How can educators help students use AI correctly? Research\, discussions with colleagues\, and a series of real classroomlessons provide some insight into the challenges of AI in education. 					\n						\n				\n						\n					\n		\n				\n			\n							\n						\n				\n								\n									\n																					\n										\n								\n						\n				\n				\n				\n								\n					Marina Seitanidis holds a BA in English Language and Literature from the National Kapodistrian Universityof Athens and an MA in Communication from the European University in Montreux\, Switzerland. With 13years of experience teaching English as a second language at Athens College High School\, she focuses onenhancing her students’ language\, collaboration\, digital literacy and critical thinking skills through a diverse range of literature\, including both fiction and non-fiction texts. She is particularly interested in strategies that encourage self-directed learning\, such as goal-setting\, self-assessment\, and fostering a growth mindset. 					\n						\n				\n				\n				\n								\n										\n						\n				\n						\n					\n		\n								\n					\n		\n						\n					\n		\n								\n					\n		\n				\n						\n							\n					\n			\n							\n						\n						\n							\n					\n			\n							\n						\n				\n								\n									\n																					Alexandra Thanou\n										\n								\n						\n				\n				\n				\n								\n					Alexandra Thanou is an experienced English language educator with a passion for creating engaging\,student-centered learning environments. With a focus on interactive lesson design and meaningful classroom engagement\, she explores practical\, adaptable strategies that not only enhance students’ focus and retention but also streamline teaching\, making lesson delivery more effective and rewarding. Drawing on real classroom experience\, this session rethinks engagement and explores ways to transform receptive skills lessons into high-impact\, manageable learning experiences. 					\n						\n				\n				\n				\n								\n										\n						\n				\n						\n					\n		\n				\n			\n							\n						\n				\n			Alexandra Thanou		\n				\n				\n				\n								\n					12:45-13:15 Athens College Theater 					\n						\n				\n				\n				\n								\n					“Beyond the Textbook: Engaging 21st-Century Learners Through Multitasking and Innovation” 					\n						\n				\n				\n				\n					\n			\n		\n				\n				\n				\n				\n								\n					Summary: How do we keep students engaged in an era of constant distractions? This session explores practical ways to transform receptive skills lessons into interactive\, dynamic experiences that sustainfocus and deepen learning. Through hands-on participation and collaboration\, we will experiment with strategies that encourage active engagement\, strengthen retention\, and enhance the learning process inways that go beyond traditional approaches\, making lessons more impactful and responsive to the needs of today’s learners. 					\n						\n				\n						\n					\n		\n								\n					\n		\n						\n					\n		\n								\n					\n		\n				\n						\n							\n					\n			\n							\n						\n						\n							\n					\n			\n							\n						\n				\n								\n									\n																					\n										\n								\n						\n				\n				\n				\n								\n					Maria Tanti  holds a BA in English Language and Literature from the National and Kapodistrian University of Athens and an MSc in Information and Library Studies from the University of Strathclyde in Glasgow\, Scotland. She has also acquired an MA in Educational Leadership from the Institute of Education\, University College London. She has been working as a school librarian at the Athens-Psychico Collegelibrary since 2007. 					\n						\n				\n				\n				\n								\n										\n						\n				\n						\n					\n		\n				\n			\n							\n						\n				\n			Alexandra Thanou		\n				\n				\n				\n								\n					13:15-13:45 Athens College Theater 					\n						\n				\n				\n				\n								\n					“Empowering Students: Navigating Fake Newsand Building Media Literacy Skills” 					\n						\n				\n				\n				\n					\n			\n		\n				\n				\n				\n				\n								\n					Summary: This presentation provides an overview of the Grade 7 library orientation program\, focusing on developing essential media literacy skills and addressing the challenges of fake news. It highlights the critical importance of teaching students to evaluate information\, identify credible sources\, and recognizemisinformation. By fostering collaboration between teachers and the library\, the program aims to equip students with the tools needed for thoughtful and informed engagement in today’s information landscape as well as academic success. 					\n						\n				\n						\n					\n		\n				\n			\n							\n						\n				\n								\n									\n																					\n										\n								\n						\n				\n				\n				\n								\n					Mia Tierney holds a BA in English Literature from the University of Portland in Portland\, Oregon. She is currently a Fulbright Fellow to Greece\, working as an English Teaching Assistant in the Athens-Psychico College Library. Before the fellowship\, Mia worked as a Paraeducator in Beaverton\, Oregon\, helping students develop their literacy and math skills. She also worked as a circulation desk assistant in the Clark Library at the University of Portland. 					\n						\n				\n				\n				\n								\n										\n						\n				\n						\n					\n		\n								\n					\n		\n						\n					\n		\n								\n					\n		\n				\n						\n							\n					\n			\n							\n						\n						\n							\n					\n			\n							\n						\n				\n			Nick Dellas		\n				\n				\n				\n								\n					13:45-14:15 Athens College Theater 					\n						\n				\n				\n				\n								\n					“Supporting Teachers in Multitasking Environments: Promoting Well-Being\, Productivity\, andProfessional Growth” 					\n						\n				\n				\n				\n					\n			\n		\n				\n				\n				\n				\n								\n					Summary: Discover how to thrive as an educator in today’s demanding multitasking environment! This session dives into practical strategies for fostering teacher well-being\, boosting productivity\, and encouraging professional growth. With insights from both teaching and leadership perspectives\, you’ll gain actionable tools to create fulfilling\, balanced\, and supportive workspaces for educators at every level. 					\n						\n				\n						\n					\n		\n				\n			\n							\n						\n				\n								\n									\n																					Nick Dellas\n										\n								\n						\n				\n				\n				\n								\n					Nick Dellas is the founder and owner of CHRONOS\, a foreign language school focused on delivering high-quality language education. Together with a team of 40 skilled teachers\, Nick fosters a vibrant\, interactive environment where students not only enhance their language proficiency but also develop essential soft skills\, preparing them for real-world communication and success. 					\n						\n				\n				\n				\n								\n										\n						\n				\n						\n					\n		\n								\n					\n		\n						\n					\n		\n								\n					\n		\n				\n						\n							\n					\n			\n							\n						\n				\n			14:15 - 15:30LUNCH & TESOL GREECE PITTA CUTTING
URL:https://tesolgreece.org/event/23rd-annual-tesol-greece-athens-college-event/
LOCATION:Athens College Theatre\, 15 Stefanou Delta St. Psychiko\, Athens\, 154 52
END:VEVENT
END:VCALENDAR